BEGIN:VCALENDAR
VERSION:2.0
PRODID:-//Plone.org//NONSGML plone.app.event//EN
X-WR-TIMEZONE:Europe/Berlin
BEGIN:VEVENT
SUMMARY:Heimatstube öffnet am Museumstag
DTSTART;TZID=Europe/Berlin;VALUE=DATE-TIME:20260517T100000
DTEND;TZID=Europe/Berlin;VALUE=DATE-TIME:20260517T160000
DTSTAMP;VALUE=DATE-TIME:20260424T135419Z
UID:b541ff6a3c6e4413a818a4d5a8e805c3@localhost:8526
CONTACT:Hans Eckart Meyer\, 04636-8408\, heimatstube@kreis-gerdauen.de
CREATED;VALUE=DATE-TIME:20240425T063634Z
DESCRIPTION:Die Heimatstube Kreis Gerdauen in Büdelsdorf öffnet am Inter
 nationalen Museumstag (Sonntag\, 17. Mai 2026) von 10 bis 16 Uhr für Besu
 cher.
LAST-MODIFIED;VALUE=DATE-TIME:20260123T121902Z
LOCATION:24782 Büdelsdorf\, Neue Dorfstr. 67a
URL:https://www.kreis-gerdauen.de/kreisgemeinschaft/aktuelles/heimatstube-
 oeffnet-am-museumstag
END:VEVENT
BEGIN:VTIMEZONE
TZID:Europe/Berlin
X-LIC-LOCATION:Europe/Berlin
BEGIN:DAYLIGHT
DTSTART;VALUE=DATE-TIME:20260329T030000
TZNAME:CEST
TZOFFSETFROM:+0100
TZOFFSETTO:+0200
END:DAYLIGHT
END:VTIMEZONE
END:VCALENDAR
